BEGIN:VCALENDAR
VERSION:2.0
PRODID:-//NAAAP Baltimore//Silkstart Technology Inc.//
BEGIN:VTIMEZONE
TZID:America/New_York
BEGIN:DAYLIGHT
DTSTART;VALUE=DATE-TIME:20260308T020000
TZNAME:EDT
TZOFFSETFROM:-0500
TZOFFSETTO:-0400
END:DAYLIGHT
BEGIN:STANDARD
DTSTART;VALUE=DATE-TIME:20261101T020000
TZNAME:EST
TZOFFSETFROM:-0400
TZOFFSETTO:-0500
END:STANDARD
END:VTIMEZONE
BEGIN:VEVENT
SUMMARY:Second Thursdays at Asia North: Strengthening Communities Together
DTSTART;TZID=America/New_York;VALUE=DATE-TIME:20260514T180000
DTEND;TZID=America/New_York;VALUE=DATE-TIME:20260514T200000
DTSTAMP;VALUE=DATE-TIME:20260408T011941
UID:69d5ad2c51ea1f05ec5e890f
DESCRIPTION: Second Thursdays: AAPI Meet-up at Asia North 2026 Partnership 
 with Asian Arts and Culture Center - Towson University Thursday\, May 14\,
  2026 SNF Parkway Theatre 5 North Avenue 6 - 8 P.M. $10 Members\, $15 Non-
 members RSVP before Monday\, May 11\, 2026 To become a NAAAP Member\, 
 visit https://baltimore-members.naaap.org/join In support of the theme for
  2026's AAPI month\, "Strengthening Communities Together\," join us as we 
 celebrate artists from the Baltimore area who are showcasing their work in
  the Asia North 2026 exhibit and strengthen our local community. Whether 
 you are new to our community or already part of it\, our event is welcome 
 for all! Our Second Thursdays program brings together AAPI professionals 
 and local leaders and provides further insights about about upcoming 
 events and opportunities. We look forward to having you join us!Second 
 Thursdays: AAPI Meet-ups are open to members and non-members. Featured 
 Food and Drink This Second Thursdays will feature chicken and eggplant 
 adobo from Barkada Breads (https://www.instagram.com/barkadabreads)\, a 
 small home operation specializing in making Filipino baked goods. Since 
 Barkada means "friend group" in Filipino\, Barkada Breads is a homage to 
 all the friends and friend groups Chef Mona has met along the way. Parking
  Street parking is available or visit https://www.theatre-parking.com/ 
 (Site of Phaan Howng&rsquo\;s Big Ass Snake(plant)s on a Plane 
 installation!) About NAAAP Baltimore Second Thursdays The Second Thursdays
  program brings together APIA professionals to socialize\, hear from local
  leaders\, and learn about upcoming events and opportunities. Every 
 month\, we also celebrate local businesses owned by Asian and Pacific 
 Islander Americans\, especially restaurants\, as anchors of the APIA 
 community in the region. As our Second Thursdays continue to support local
  AAPI businesses\, please do not bring outside food/drinks. 
LOCATION:SNF Parkway Theatre - 5 W North Ave\, Baltimore\, MD 21201\, USA
PRIORITY:5
URL:https://baltimore-members.naaap.org:443/events/second-thursdays-at-
 asia-north-strengthening-communities-together
END:VEVENT
END:VCALENDAR
