BEGIN:VCALENDAR
VERSION:2.0
PRODID:-//NAAAP Baltimore//Silkstart Technology Inc.//
BEGIN:VTIMEZONE
TZID:America/New_York
BEGIN:DAYLIGHT
DTSTART;VALUE=DATE-TIME:20260308T020000
TZNAME:EDT
TZOFFSETFROM:-0500
TZOFFSETTO:-0400
END:DAYLIGHT
BEGIN:STANDARD
DTSTART;VALUE=DATE-TIME:20261101T020000
TZNAME:EST
TZOFFSETFROM:-0400
TZOFFSETTO:-0500
END:STANDARD
END:VTIMEZONE
BEGIN:VEVENT
SUMMARY:Crafternoon at Local Stitch
DTSTART;TZID=America/New_York;VALUE=DATE-TIME:20260419T130000
DTEND;TZID=America/New_York;VALUE=DATE-TIME:20260419T150000
DTSTAMP;VALUE=DATE-TIME:20260416T194127
UID:69e13b6796385f05d32e105c
DESCRIPTION:Save the date for our first community crafternoon of 2026 next 
 Sunday\, 4/19 from 1-3 at The Local Stitch in Fell&rsquo\;s Point. Bring 
 your works in progress\, and/or a craft or a snack to share ✨ Please 
 note that we will be in a retail store so we invite you to be mindful of 
 any clean up needs for your projects as well~ Looking forward to seeing 
 folks there!! 😊 
LOCATION:1910 Fleet St\, Baltimore\, MD 21231\, USA
PRIORITY:5
URL:https://baltimore-members.naaap.org:443/events/crafternoon-at-local-
 stitch
END:VEVENT
END:VCALENDAR
