BEGIN:VCALENDAR
VERSION:2.0
PRODID:-//NAAAP Baltimore//Silkstart Technology Inc.//
BEGIN:VTIMEZONE
TZID:America/New_York
BEGIN:DAYLIGHT
DTSTART;VALUE=DATE-TIME:20260308T020000
TZNAME:EDT
TZOFFSETFROM:-0500
TZOFFSETTO:-0400
END:DAYLIGHT
BEGIN:STANDARD
DTSTART;VALUE=DATE-TIME:20261101T020000
TZNAME:EST
TZOFFSETFROM:-0400
TZOFFSETTO:-0500
END:STANDARD
END:VTIMEZONE
BEGIN:VEVENT
SUMMARY:Better Together: NAAAP at the Park
DTSTART;TZID=America/New_York;VALUE=DATE-TIME:20260503T100000
DTEND;TZID=America/New_York;VALUE=DATE-TIME:20260503T150000
DTSTAMP;VALUE=DATE-TIME:20260413T181602
UID:69dd32e251ea1f05d8f1ed18
DESCRIPTION:https://baltimore-members.naaap.org:443/events/better-together-
 naaap-at-the-park
LOCATION:Patterson Park\, Baltimore\, MD\, USA
PRIORITY:5
URL:https://baltimore-members.naaap.org:443/events/better-together-naaap-
 at-the-park
END:VEVENT
END:VCALENDAR
